{"text_format":"1","workbook":"xlsx","n_sheets":4,"sheets":["TD","TOP","Presidencia","Suficientes"],"not_rendered":{"charts":0,"images":1,"macros":1,"external_links":0,"defined_names":0,"comments":0,"pivot_tables":1},"unopened":[],"bounds":{"document_bytes":16777216,"sheet_cells":100000,"rows_first":2000,"rows_last":500,"rows_between":2000,"halvings":0,"cell_chars":16384,"cell_head_chars":4096},"cells_cut":0,"cells_raw":0,"read":"whole","date_system":"1900"}

{"sheet":"TD","index":0,"n_rows":52,"n_cols":2,"rows_kept":52,"cut":false,"hidden":true,"merged":[]}
[]
[]
["Etiquetas de fila","Suma de Apoyos"]
["AISCHA VALLEJO UTRILLA",504]
["ALEJANDRO DANIEL GARZA MONTES DE OCA",425]
["ALEXIS FIGUEROA VALLEJO",0]
["ALFONSO TRUJANO SANCHEZ",493]
["ÁNGEL MARTÍNEZ  JUÁREZ",211]
["ANTONIO ZAVALA MANCILLAS",240]
["ARMANDO RÍOS PITER",61822]
["CARLOS ANTONIO MIMENZA NOVELO",3292]
["DANTE FIGUEROA GALEANA",33]
["EDGAR ULISES PORTILLO FIGUEROA",11980]
["EDUARDO SANTILLÁN CARPINTEIRO",1701]
["ESTEBAN RUIZ PONCE MADRID",0]
["EUSTACIO ESTEBAN SALINAS TREVIÑO",276]
["FERNANDO EDUARDO  JALILI LIRA",5]
["FRANCISCO JAVIER BECERRIL LÓPEZ",38]
["FRANCISCO JAVIER RODRÍGUEZ ESPEJEL",143]
["GABRIEL SALGADO AGUILAR",47]
["GERARDO DUEÑAS BEDOLLA",4]
["GERARDO MOJICA NERIA",1542]
["GONZALO NAVOR LANCHE",95]
["GUSTAVO JAVIER JIMÉNEZ PONS MEJÍA",87]
["ISRRAEL PANTOJA CRUZ",32]
["J. JESÚS PADILLA CASTILLO",33]
["JAIME HELIODORO RODRIGUEZ  CALDERON",283934]
["JESÚS ALFONSO PÉREZ GARCÍA",0]
["JESÚS MORFÍN GARDUÑO",206]
["JORGE CRUZ GÓMEZ",183]
["JOSÉ ANTONIO JAIME REYNOSO",85]
["JOSÉ FRANCISCO FLORES CARBALLIDO",2023]
["LUIS MODESTO PONCE DE LEÓN ARMENTA",716]
["MA. DE JESÚS PATRICIO MARTÍNEZ",49365]
["MANUEL ANTONIO ROMO AGUIRRE",72]
["MARCO FERRARA VILLARREAL",2772]
["MARGARITA ESTER ZAVALA GÓMEZ DEL CAMPO",193769]
["MARÍA CONCEPCIÓN  IBARRA  TIZNADO",122]
["MARIA ELENA RODRÍGUEZ CAMPIA ROMO",10]
["MARIO FABIAN GÓMEZ PÉREZ",0]
["MAURICIO ÁVILA  MEDINA",44]
["PABLO JAIME DELGADO OREA",352]
["PEDRO FERRIZ DE CON",49875]
["PEDRO SERGIO PEÑALOZA PÉREZ",888]
["PORFIRIO  MORENO JIMÉNEZ",1621]
["RAÚL PÉREZ ALONSO",26]
["RICARDO AZUELA ESPINOZA",623]
["RODOLFO EDUARDO SANTOS DÁVILA",13]
["ROQUE LÓPEZ MENDOZA",5]
["SILVESTRE FERNÁNDEZ BARAJAS",165]
["WENDOLIN GUTIÉRREZ MEJÍA",36]
["Total general",669908]

{"sheet":"TOP","index":1,"n_rows":49,"n_cols":3,"rows_kept":49,"cut":false,"hidden":true,"merged":[]}
[null,"NOMBRE","TOTAL"]
[null,"JAIME HELIODORO RODRIGUEZ  CALDERON",283934]
[null,"MARGARITA ESTER ZAVALA GÓMEZ DEL CAMPO",193769]
[null,"ARMANDO RÍOS PITER",61822]
[null,"PEDRO FERRIZ DE CON",49875]
[null,"MA. DE JESÚS PATRICIO MARTÍNEZ",49365]
[null,"EDGAR ULISES PORTILLO FIGUEROA",11980]
[null,"CARLOS ANTONIO MIMENZA NOVELO",3292]
[null,"MARCO FERRARA VILLARREAL",2772]
[null,"JOSÉ FRANCISCO FLORES CARBALLIDO",2023]
[null,"EDUARDO SANTILLÁN CARPINTEIRO",1701]
[null,"PORFIRIO  MORENO JIMÉNEZ",1621]
[null,"GERARDO MOJICA NERIA",1542]
[null,"PEDRO SERGIO PEÑALOZA PÉREZ",888]
[null,"LUIS MODESTO PONCE DE LEÓN ARMENTA",716]
[null,"RICARDO AZUELA ESPINOZA",623]
[null,"AISCHA VALLEJO UTRILLA",504]
[null,"ALFONSO TRUJANO SANCHEZ",493]
[null,"ALEJANDRO DANIEL GARZA MONTES DE OCA",425]
[null,"PABLO JAIME DELGADO OREA",352]
[null,"EUSTACIO ESTEBAN SALINAS TREVIÑO",276]
[null,"ANTONIO ZAVALA MANCILLAS",240]
[null,"ÁNGEL MARTÍNEZ  JUÁREZ",211]
[null,"JESÚS MORFÍN GARDUÑO",206]
[null,"JORGE CRUZ GÓMEZ",183]
[null,"SILVESTRE FERNÁNDEZ BARAJAS",165]
[null,"FRANCISCO JAVIER RODRÍGUEZ ESPEJEL",143]
[null,"MARÍA CONCEPCIÓN  IBARRA  TIZNADO",122]
[null,"GONZALO NAVOR LANCHE",95]
[null,"GUSTAVO JAVIER JIMÉNEZ PONS MEJÍA",87]
[null,"JOSÉ ANTONIO JAIME REYNOSO",85]
[null,"MANUEL ANTONIO ROMO AGUIRRE",72]
[null,"GABRIEL SALGADO AGUILAR",47]
[null,"MAURICIO ÁVILA  MEDINA",44]
[null,"FRANCISCO JAVIER BECERRIL LÓPEZ",38]
[null,"WENDOLIN GUTIÉRREZ MEJÍA",36]
[null,"DANTE FIGUEROA GALEANA",33]
[null,"J. JESÚS PADILLA CASTILLO",33]
[null,"ISRRAEL PANTOJA CRUZ",32]
[null,"RAÚL PÉREZ ALONSO",26]
[null,"RODOLFO EDUARDO SANTOS DÁVILA",13]
[null,"MARIA ELENA RODRÍGUEZ CAMPIA ROMO",10]
[null,"FERNANDO EDUARDO  JALILI LIRA",5]
[null,"ROQUE LÓPEZ MENDOZA",5]
[null,"GERARDO DUEÑAS BEDOLLA",4]
[null,"ALEXIS FIGUEROA VALLEJO",0]
[null,"ESTEBAN RUIZ PONCE MADRID",0]
[null,"JESÚS ALFONSO PÉREZ GARCÍA",0]
[null,"MARIO FABIAN GÓMEZ PÉREZ",0]

{"sheet":"Presidencia","index":2,"n_rows":38,"n_cols":100,"rows_kept":38,"cut":false,"hidden":false,"merged":[[25,1,25,2],[26,1,26,2],[27,1,27,2],[28,1,28,2],[29,1,29,2],[35,1,35,2],[37,0,37,2],[30,1,30,2],[31,1,31,2],[32,1,32,2],[33,1,33,2],[34,1,34,2],[0,0,0,2],[20,1,20,2],[21,1,21,2],[22,1,22,2],[23,1,23,2],[10,1,10,2],[11,1,11,2],[12,1,12,2],[13,1,13,2],[14,1,14,2],[7,1,7,2],[8,1,8,2],[9,1,9,2],[5,1,5,2],[6,1,6,2],[1,0,1,2],[24,1,24,2],[15,1,15,2],[16,1,16,2],[17,1,17,2],[18,1,18,2],[19,1,19,2],[2,92,2,93],[2,94,2,95],[4,1,4,2],[3,0,3,2],[2,8,2,9],[2,3,3,3],[2,0,2,2],[2,56,2,57],[2,60,2,61],[2,64,2,65],[2,68,2,69],[2,58,2,59],[2,62,2,63],[2,66,2,67],[2,14,2,15],[2,28,2,29],[2,32,2,33],[2,36,2,37],[2,40,2,41],[2,30,2,31],[2,34,2,35],[2,98,2,99],[0,3,1,8],[2,12,2,13],[2,10,2,11],[2,18,2,19],[2,22,2,23],[2,26,2,27],[2,20,2,21],[2,80,2,81],[2,24,2,25],[2,4,2,5],[2,6,2,7],[2,70,2,71],[2,16,2,17],[2,38,2,39],[2,42,2,43],[2,84,2,85],[2,88,2,89],[2,96,2,97],[2,44,2,45],[2,72,2,73],[2,74,2,75],[2,76,2,77],[2,46,2,47],[2,50,2,51],[2,54,2,55],[2,82,2,83],[2,86,2,87],[2,90,2,91],[2,48,2,49],[2,78,2,79],[2,52,2,53]]}
["Aspirantes a la Presidencia de la República (48)",null,null,"LGIPE, artículo 371-1. Para la candidatura de Presidente de los Estados Unidos Mexicanos, la cédula de respaldo deberá [...] estar integrada por electores de por lo menos diecisiete entidades federativas, que sumen cuando menos el 1% de ciudadanos que figuren en la lista nominal de electores en cada una de ellas.    \n\nNota: Se iluminan con verde aquellas entidades en donde se cumplió con el umbral establecido según los apoyos en Lista Nominal"]
["La columna 'APOYOS EN LISTA NOMINAL' refleja el número de apoyos enviados por las y los aspirantes que se encuentran en Lista Nominal al momento del corte.\n**La información presentada en este reporte es preliminar**"]
["Corte: 23/oct\n23:59 hrs.",null,null,"UMBRAL DEL 1% DE LA LN\n(Corte al 31 de agosto de 2017)","MARGARITA ESTER ZAVALA GÓMEZ DEL CAMPO",null,"MA. DE JESÚS PATRICIO MARTÍNEZ",null,"ARMANDO RÍOS PITER",null,"JAIME HELIODORO RODRIGUEZ  CALDERON",null,"PEDRO FERRIZ DE CON",null,"JOSÉ FRANCISCO FLORES CARBALLIDO",null,"MARCO FERRARA VILLARREAL",null,"LUIS MODESTO PONCE DE LEÓN ARMENTA",null,"PEDRO SERGIO PEÑALOZA PÉREZ",null,"CARLOS ANTONIO MIMENZA NOVELO",null,"PABLO JAIME DELGADO OREA",null,"RICARDO AZUELA ESPINOZA",null,"EDGAR ULISES PORTILLO FIGUEROA",null,"EUSTACIO ESTEBAN SALINAS TREVIÑO",null,"SILVESTRE FERNÁNDEZ BARAJAS",null,"JOSÉ ANTONIO JAIME REYNOSO",null,"EDUARDO SANTILLÁN CARPINTEIRO",null,"FRANCISCO JAVIER RODRÍGUEZ ESPEJEL",null,"ALFONSO TRUJANO SANCHEZ",null,"GUSTAVO JAVIER JIMÉNEZ PONS MEJÍA",null,"GABRIEL SALGADO AGUILAR",null,"JORGE CRUZ GÓMEZ",null,"MARÍA CONCEPCIÓN  IBARRA  TIZNADO",null,"ALEJANDRO DANIEL GARZA MONTES DE OCA",null,"WENDOLIN GUTIÉRREZ MEJÍA",null,"J. JESÚS PADILLA CASTILLO",null,"ANTONIO ZAVALA MANCILLAS",null,"PORFIRIO  MORENO JIMÉNEZ",null,"ROQUE LÓPEZ MENDOZA",null,"MAURICIO ÁVILA  MEDINA",null,"RAÚL PÉREZ ALONSO",null,"AISCHA VALLEJO UTRILLA",null,"ALEXIS FIGUEROA VALLEJO",null,"ÁNGEL MARTÍNEZ  JUÁREZ",null,"DANTE FIGUEROA GALEANA",null,"ESTEBAN RUIZ PONCE MADRID",null,"FERNANDO EDUARDO  JALILI LIRA",null,"FRANCISCO JAVIER BECERRIL LÓPEZ",null,"GERARDO DUEÑAS BEDOLLA",null,"GERARDO MOJICA NERIA",null,"GONZALO NAVOR LANCHE",null,"ISRRAEL PANTOJA CRUZ",null,"JESÚS ALFONSO PÉREZ GARCÍA",null,"JESÚS MORFÍN GARDUÑO",null,"MANUEL ANTONIO ROMO AGUIRRE",null,"MARIA ELENA RODRÍGUEZ CAMPIA ROMO",null,"MARIO FABIAN GÓMEZ PÉREZ",null,"RODOLFO EDUARDO SANTOS DÁVILA"]
["ENTIDAD",null,null,null,"APOYOS RECIBIDOS","CUMPLIMIENTO DE DISPERSIÓN","APOYOS RECIBIDOS","CUMPLIMIENTO DE DISPERSIÓN","APOYOS RECIBIDOS","CUMPLIMIENTO DE DISPERSIÓN","APOYOS RECIBIDOS","CUMPLIMIENTO DE DISPERSIÓN","APOYOS RECIBIDOS","CUMPLIMIENTO DE DISPERSIÓN","APOYOS RECIBIDOS","CUMPLIMIENTO DE DISPERSIÓN","APOYOS RECIBIDOS","CUMPLIMIENTO DE DISPERSIÓN","APOYOS RECIBIDOS","CUMPLIMIENTO DE DISPERSIÓN","APOYOS RECIBIDOS","CUMPLIMIENTO DE DISPERSIÓN","APOYOS RECIBIDOS","CUMPLIMIENTO DE DISPERSIÓN","APOYOS RECIBIDOS","CUMPLIMIENTO DE DISPERSIÓN","APOYOS RECIBIDOS","CUMPLIMIENTO DE DISPERSIÓN","APOYOS RECIBIDOS","CUMPLIMIENTO DE DISPERSIÓN","APOYOS RECIBIDOS","CUMPLIMIENTO DE DISPERSIÓN","APOYOS RECIBIDOS","CUMPLIMIENTO DE DISPERSIÓN","APOYOS RECIBIDOS","CUMPLIMIENTO DE DISPERSIÓN","APOYOS RECIBIDOS","CUMPLIMIENTO DE DISPERSIÓN","APOYOS RECIBIDOS","CUMPLIMIENTO DE DISPERSIÓN","APOYOS RECIBIDOS","CUMPLIMIENTO DE DISPERSIÓN","APOYOS RECIBIDOS","CUMPLIMIENTO DE DISPERSIÓN","APOYOS RECIBIDOS","CUMPLIMIENTO DE DISPERSIÓN","APOYOS RECIBIDOS","CUMPLIMIENTO DE DISPERSIÓN","APOYOS RECIBIDOS","CUMPLIMIENTO DE DISPERSIÓN","APOYOS RECIBIDOS","CUMPLIMIENTO DE DISPERSIÓN","APOYOS RECIBIDOS","CUMPLIMIENTO DE DISPERSIÓN","APOYOS RECIBIDOS","CUMPLIMIENTO DE DISPERSIÓN","APOYOS RECIBIDOS","CUMPLIMIENTO DE DISPERSIÓN","APOYOS RECIBIDOS","CUMPLIMIENTO DE DISPERSIÓN","APOYOS RECIBIDOS","CUMPLIMIENTO DE DISPERSIÓN","APOYOS RECIBIDOS","CUMPLIMIENTO DE DISPERSIÓN","APOYOS RECIBIDOS","CUMPLIMIENTO DE DISPERSIÓN","APOYOS RECIBIDOS","CUMPLIMIENTO DE DISPERSIÓN","APOYOS RECIBIDOS","CUMPLIMIENTO DE DISPERSIÓN","APOYOS RECIBIDOS","CUMPLIMIENTO DE DISPERSIÓN","APOYOS RECIBIDOS","CUMPLIMIENTO DE DISPERSIÓN","APOYOS RECIBIDOS","CUMPLIMIENTO DE DISPERSIÓN","APOYOS RECIBIDOS","CUMPLIMIENTO DE DISPERSIÓN","APOYOS RECIBIDOS","CUMPLIMIENTO DE DISPERSIÓN","APOYOS RECIBIDOS","CUMPLIMIENTO DE DISPERSIÓN","APOYOS RECIBIDOS","CUMPLIMIENTO DE DISPERSIÓN","APOYOS RECIBIDOS","CUMPLIMIENTO DE DISPERSIÓN","APOYOS RECIBIDOS","CUMPLIMIENTO DE DISPERSIÓN","APOYOS RECIBIDOS","CUMPLIMIENTO DE DISPERSIÓN","APOYOS RECIBIDOS","CUMPLIMIENTO DE DISPERSIÓN","APOYOS RECIBIDOS","CUMPLIMIENTO DE DISPERSIÓN","APOYOS RECIBIDOS","CUMPLIMIENTO DE DISPERSIÓN","APOYOS RECIBIDOS","CUMPLIMIENTO DE DISPERSIÓN","APOYOS RECIBIDOS","CUMPLIMIENTO DE DISPERSIÓN"]
[1,"Aguascalientes",null,9097,121,1.3301088270858524E-2,189,2.0776080026382322E-2,1,1.0992634934593822E-4,1,1.0992634934593822E-4,23,2.528306034956579E-3,0,0,1,1.0992634934593822E-4,0,0,0,0,0,0,0,0,0,0,0,0,0,0,0,0,0,0,0,0,0,0,0,0,0,0,0,0,0,0,0,0,0,0,0,0,0,0,0,0,0,0,0,0,0,0,0,0,0,0,0,0,0,0,0,0,0,0,0,0,0,0,0,0,0,0,0,0,0,0,0,0,0,0,0,0,0,0,0,0,0,0]
[2,"Baja California",null,26369,310,1.1756228905153779E-2,129,4.892108157305927E-3,4,1.5169327619553264E-4,28,1.0618529333687285E-3,20,7.5846638097766311E-4,0,0,0,0,0,0,0,0,0,0,0,0,0,0,0,0,0,0,0,0,0,0,0,0,0,0,0,0,0,0,1,3.7923319048883161E-5,0,0,0,0,0,0,0,0,0,0,0,0,0,0,0,0,0,0,0,0,0,0,0,0,0,0,0,0,0,0,0,0,0,0,0,0,0,0,0,0,0,0,0,0,0,0,0,0,0,0,0,0,0,0]
[3,"Baja California Sur",null,5007,45,8.9874176153385259E-3,2,3.9944078290393448E-4,79,1.5777910924705412E-2,1,1.9972039145196724E-4,7,1.3980427401637707E-3,0,0,0,0,0,0,7,1.3980427401637707E-3,0,0,0,0,0,0,0,0,0,0,0,0,0,0,0,0,0,0,0,0,0,0,0,0,0,0,0,0,0,0,0,0,0,0,0,0,0,0,0,0,0,0,0,0,0,0,0,0,0,0,0,0,0,0,0,0,0,0,0,0,0,0,0,0,0,0,0,0,0,0,0,0,0,0,0,0,0,0]
[4,"Campeche",null,6246,192,3.073967339097022E-2,5,8.0051232788984946E-4,108,1.7291066282420751E-2,1,1.6010246557796989E-4,0,0,0,0,0,0,0,0,0,0,0,0,0,0,0,0,0,0,0,0,0,0,0,0,0,0,0,0,0,0,0,0,0,0,0,0,0,0,0,0,0,0,0,0,0,0,0,0,0,0,0,0,0,0,0,0,0,0,0,0,0,0,0,0,0,0,0,0,0,0,0,0,0,0,0,0,0,0,0,0,0,0,0,0,0,0,0,0]
[5,"Coahuila",null,20846,304,1.4583133454859445E-2,35,1.6789791806581598E-3,1,4.797083373309028E-5,83,3.9815791998464934E-3,41,1.9668041830567017E-3,0,0,2,9.5941667466180561E-5,0,0,0,0,1,4.797083373309028E-5,0,0,0,0,0,0,0,0,0,0,0,0,0,0,0,0,0,0,0,0,0,0,0,0,0,0,0,0,0,0,0,0,0,0,0,0,0,0,0,0,0,0,0,0,0,0,0,0,0,0,0,0,0,0,0,0,0,0,0,0,0,0,0,0,0,0,0,0,0,0,0,0,0,0,0,0]
[6,"Colima",null,5176,66,1.2751159196290572E-2,58,1.1205564142194745E-2,7,1.3523956723338485E-3,2,3.8639876352395672E-4,2,3.8639876352395672E-4,0,0,0,0,15,2.8979907264296756E-3,0,0,0,0,0,0,0,0,0,0,0,0,0,0,0,0,0,0,0,0,0,0,0,0,15,2.8979907264296756E-3,0,0,0,0,0,0,0,0,0,0,0,0,0,0,0,0,0,0,0,0,0,0,0,0,0,0,0,0,0,0,0,0,0,0,0,0,0,0,0,0,0,0,0,0,0,0,0,0,0,0,0,0,0,0]
[7,"Chiapas",null,34168,154,4.507141184734254E-3,1082,3.1667056895340669E-2,6,1.7560290330133457E-4,6,1.7560290330133457E-4,6,1.7560290330133457E-4,0,0,1,2.9267150550222431E-5,0,0,1,2.9267150550222431E-5,25,7.3167876375556079E-4,0,0,0,0,0,0,0,0,0,0,0,0,0,0,0,0,0,0,0,0,0,0,0,0,0,0,0,0,0,0,0,0,0,0,0,0,0,0,0,0,0,0,0,0,0,0,0,0,0,0,0,0,0,0,0,0,0,0,0,0,0,0,0,0,0,0,0,0,0,0,0,0,0,0,0,0]
[8,"Chihuahua",null,26593,119,4.474861805738352E-3,59,2.2186289625089309E-3,6,2.2562328432294213E-4,9,3.384349264844132E-4,69,2.5946677697138345E-3,0,0,1,3.7603880720490358E-5,33,1.2409280637761817E-3,0,0,0,0,1,3.7603880720490358E-5,0,0,0,0,2,7.5207761440980716E-5,0,0,0,0,0,0,0,0,0,0,2,7.5207761440980716E-5,0,0,0,0,0,0,0,0,0,0,0,0,0,0,0,0,0,0,0,0,0,0,0,0,0,0,0,0,0,0,0,0,0,0,0,0,0,0,0,0,0,0,0,0,0,0,0,0,0,0,0,0,0,0,0,0]
[9,"Ciudad de México",null,74656,3557,4.7645199314187744E-2,583,7.8091513073296186E-3,411,5.5052507501071584E-3,147,1.9690312901843119E-3,582,7.7957565366480923E-3,3,4.0184312044577799E-5,17,2.2771110158594085E-4,56,7.5010715816545216E-4,26,3.4826403771967427E-4,16,2.1431633090441491E-4,27,3.6165880840120015E-4,0,0,10,1.3394770681525933E-4,0,0,43,5.7597513930561506E-4,0,0,3,4.0184312044577799E-5,26,3.4826403771967427E-4,23,3.0807972567509646E-4,13,1.7413201885983713E-4,0,0,4,5.3579082726103728E-5,1,1.3394770681525932E-5,3,4.0184312044577799E-5,3,4.0184312044577799E-5,0,0,0,0,0,0,0,0,2,2.6789541363051864E-5,0,0,0,0,0,0,0,0,0,0,0,0,0,0,0,0,0,0,0,0,0,0,0,0,0,0,0,0,0,0,0,0,0,0,0,0]
[10,"Durango",null,12470,130,1.0425020048115477E-2,6,4.8115477145148355E-4,12,9.6230954290296711E-4,1,8.0192461908580592E-5,4,3.2076984763432237E-4,2,1.6038492381716118E-4,0,0,0,0,0,0,0,0,0,0,0,0,0,0,0,0,0,0,0,0,0,0,0,0,0,0,0,0,0,0,0,0,0,0,0,0,0,0,0,0,0,0,0,0,0,0,0,0,0,0,0,0,0,0,0,0,0,0,0,0,0,0,0,0,0,0,0,0,0,0,0,0,0,0,0,0,0,0,0,0,0,0,0,0]
[11,"Guanajuato",null,42541,357,8.3919042805763854E-3,91,2.1391128558331963E-3,21,4.9364142826919914E-4,5,1.1753367339742837E-4,172,4.0431583648715356E-3,0,0,0,0,0,0,0,0,1,2.3506734679485672E-5,0,0,86,2.0215791824357678E-3,0,0,0,0,0,0,0,0,0,0,0,0,2,4.7013469358971345E-5,0,0,0,0,0,0,0,0,1,2.3506734679485672E-5,0,0,0,0,0,0,0,0,0,0,0,0,1,2.3506734679485672E-5,0,0,0,0,0,0,0,0,0,0,0,0,0,0,0,0,0,0,0,0,0,0,0,0,0,0,0,0,0,0,0,0,0,0]
[12,"Guerrero",null,24544,215,8.7597783572359849E-3,9,3.666883963494133E-4,1207,4.9176988265971319E-2,1,4.074315514993481E-5,1,4.074315514993481E-5,0,0,0,0,30,1.2222946544980444E-3,107,4.3595176010430246E-3,1,4.074315514993481E-5,0,0,0,0,0,0,0,0,0,0,0,0,0,0,0,0,0,0,0,0,0,0,1,4.074315514993481E-5,0,0,0,0,0,0,0,0,0,0,0,0,0,0,0,0,0,0,0,0,0,0,0,0,0,0,0,0,0,0,0,0,0,0,0,0,0,0,0,0,0,0,0,0,0,0,0,0,0,0,0,0]
[13,"Hidalgo",null,20573,228,1.1082486754484033E-2,6,2.9164438827589557E-4,9,4.3746658241384341E-4,7,3.4025178632187818E-4,17,8.2632576678170414E-4,167,8.1174354736790934E-3,1,4.8607398045982599E-5,0,0,0,0,1,4.8607398045982599E-5,0,0,0,0,0,0,0,0,0,0,0,0,7,3.4025178632187818E-4,0,0,0,0,0,0,0,0,0,0,0,0,0,0,0,0,0,0,0,0,1,4.8607398045982599E-5,0,0,0,0,0,0,0,0,0,0,0,0,0,0,0,0,0,0,0,0,0,0,0,0,0,0,0,0,0,0,0,0,0,0,0,0,0,0,0,0]
[14,"Jalisco",null,57722,1214,2.1031842278507327E-2,914,1.5834517168497281E-2,40,6.9297668133467313E-4,2,3.4648834066733652E-5,294,5.0933786078098476E-3,0,0,0,0,12,2.0789300440040193E-4,0,0,0,0,0,0,1,1.7324417033366826E-5,0,0,0,0,0,0,44,7.6227434946814037E-4,0,0,1,1.7324417033366826E-5,0,0,0,0,0,0,0,0,4,6.9297668133467305E-5,0,0,1,1.7324417033366826E-5,6,1.0394650220020096E-4,0,0,0,0,0,0,0,0,0,0,0,0,0,0,0,0,0,0,0,0,0,0,0,0,0,0,0,0,0,0,0,0,0,0,0,0,0,0,0,0,0,0,0,0]
[15,"México",null,114593,1379,1.2033893867862784E-2,140,1.2217151134886076E-3,168,1.466058136186329E-3,45,3.9269414362133815E-4,361,3.1502796854956236E-3,67,5.846779471695479E-4,7,6.1085755674430381E-5,26,2.2688994964788426E-4,0,0,34,2.9670224184723325E-4,8,6.9812292199349001E-5,0,0,67,5.846779471695479E-4,1,8.7265365249186252E-6,24,2.0943687659804699E-4,0,0,34,2.9670224184723325E-4,19,1.6580419397345386E-4,11,9.5991901774104875E-5,1,8.7265365249186252E-6,0,0,6,5.2359219149511748E-5,0,0,5,4.3632682624593128E-5,2,1.745307304983725E-5,0,0,0,0,0,0,0,0,0,0,0,0,0,0,0,0,0,0,0,0,0,0,0,0,0,0,0,0,0,0,0,0,0,0,0,0,0,0,0,0,0,0,0,0,0,0]
[16,"Michoacán",null,33360,825,2.4730215827338128E-2,37,1.1091127098321342E-3,16,4.7961630695443646E-4,2,5.9952038369304558E-5,23,6.8944844124700243E-4,1,2.9976019184652279E-5,4,1.1990407673860912E-4,1,2.9976019184652279E-5,0,0,4,1.1990407673860912E-4,1,2.9976019184652279E-5,0,0,0,0,0,0,0,0,0,0,0,0,0,0,0,0,0,0,0,0,0,0,7,2.0983213429256594E-4,0,0,0,0,0,0,0,0,0,0,3,8.9928057553956837E-5,0,0,0,0,0,0,0,0,0,0,0,0,0,0,0,0,0,0,0,0,0,0,0,0,0,0,0,0,0,0,0,0,0,0,0,0,0,0]
[17,"Morelos",null,14086,100,7.0992474797671448E-3,74,5.2534431350276869E-3,35,2.4847366179185006E-3,2,1.419849495953429E-4,126,8.9450518245066026E-3,1,7.0992474797671449E-5,0,0,0,0,1,7.0992474797671449E-5,0,0,29,2.0587817691324721E-3,0,0,0,0,0,0,0,0,0,0,2,1.419849495953429E-4,0,0,0,0,0,0,0,0,0,0,0,0,0,0,0,0,0,0,0,0,0,0,0,0,0,0,0,0,0,0,0,0,0,0,0,0,0,0,0,0,0,0,0,0,0,0,0,0,0,0,0,0,0,0,0,0,0,0,0,0,0,0]
[18,"Nayarit",null,8234,101,1.2266213262084042E-2,29,3.5219820257469032E-3,0,0,1,1.2144765606023804E-4,3,3.6434296818071412E-4,0,0,0,0,0,0,0,0,0,0,0,0,0,0,0,0,0,0,0,0,0,0,0,0,0,0,0,0,0,0,0,0,0,0,0,0,0,0,0,0,0,0,0,0,0,0,0,0,0,0,0,0,0,0,0,0,0,0,0,0,0,0,0,0,0,0,0,0,0,0,0,0,0,0,0,0,0,0,0,0,0,0,0,0,0,0]
[19,"Nuevo León",null,37804,978,2.587027827743096E-2,92,2.4336049095333829E-3,73,1.931012591260184E-3,1661,4.393714950798857E-2,77,2.0368215003703314E-3,0,0,168,4.443974182626177E-3,0,0,0,0,0,0,0,0,0,0,0,0,63,1.6664903184848165E-3,0,0,0,0,0,0,0,0,0,0,0,0,0,0,0,0,0,0,0,0,0,0,0,0,0,0,2,5.290445455507354E-5,0,0,0,0,0,0,0,0,0,0,0,0,0,0,0,0,0,0,0,0,0,0,0,0,0,0,0,0,0,0,0,0,0,0,0,0,0,0,0,0]
[20,"Oaxaca",null,27899,222,7.9572744542815155E-3,55,1.9713968242589339E-3,116,4.1578551202552062E-3,3,1.0753073586866912E-4,3,1.0753073586866912E-4,0,0,2,7.168715724577942E-5,12,4.3012294347467649E-4,7,2.5090505036022798E-4,2,7.168715724577942E-5,0,0,0,0,0,0,0,0,0,0,0,0,0,0,0,0,0,0,0,0,0,0,0,0,0,0,1,3.584357862288971E-5,0,0,0,0,0,0,0,0,0,0,0,0,0,0,0,0,0,0,0,0,0,0,0,0,0,0,0,0,0,0,0,0,0,0,0,0,0,0,0,0,0,0,0,0,0,0,0,0]
[21,"Puebla",null,43549,192,4.4088268387333807E-3,48,1.1022067096833452E-3,79,1.8140485430205057E-3,7,1.6073847849548784E-4,141,3.2377322096948267E-3,0,0,4,9.1850559140278765E-5,4,9.1850559140278765E-5,0,0,36,8.2665503226250889E-4,2,4.5925279570139383E-5,0,0,0,0,0,0,1,2.2962639785069691E-5,1,2.2962639785069691E-5,4,9.1850559140278765E-5,0,0,0,0,1,2.2962639785069691E-5,0,0,0,0,0,0,0,0,0,0,0,0,0,0,0,0,0,0,0,0,0,0,0,0,0,0,0,0,0,0,0,0,0,0,0,0,0,0,0,0,0,0,0,0,0,0,0,0,0,0,0,0,0,0,0,0]
[22,"Querétaro",null,15247,209,1.3707614612710696E-2,83,5.4436938414114252E-3,12,7.8704007345707357E-4,18,1.1805601101856102E-3,43,2.8202269298878467E-3,0,0,15,9.8380009182134193E-4,0,0,0,0,0,0,1,6.5586672788089459E-5,0,0,0,0,0,0,2,1.3117334557617892E-4,0,0,1,6.5586672788089459E-5,0,0,0,0,0,0,0,0,1,6.5586672788089459E-5,0,0,0,0,0,0,0,0,0,0,0,0,0,0,0,0,0,0,0,0,0,0,0,0,0,0,0,0,0,0,0,0,0,0,0,0,0,0,0,0,0,0,0,0,0,0,0,0,0,0,0,0]
[23,"Quintana Roo",null,11576,142,1.2266758811333794E-2,20,1.7277125086385626E-3,7,6.0469937802349694E-4,11,9.5024187975120938E-4,21,1.8140981340704907E-3,0,0,1,8.6385625431928124E-5,1,8.6385625431928124E-5,2,1.7277125086385625E-4,4,3.455425017277125E-4,25,2.1596406357982031E-3,0,0,0,0,0,0,0,0,0,0,0,0,0,0,0,0,0,0,0,0,0,0,0,0,0,0,0,0,0,0,0,0,0,0,0,0,0,0,0,0,0,0,0,0,0,0,0,0,0,0,0,0,0,0,0,0,0,0,0,0,0,0,0,0,0,0,0,0,0,0,0,0,0,0]
[24,"San Luis Potosí",null,19203,131,6.8218507524865904E-3,99,5.1554444618028437E-3,8,4.1660157267093683E-4,8,4.1660157267093683E-4,20,1.0415039316773421E-3,0,0,1,5.2075196583867103E-5,0,0,0,0,0,0,0,0,0,0,2,1.0415039316773421E-4,1,5.2075196583867103E-5,0,0,0,0,0,0,0,0,0,0,0,0,0,0,0,0,0,0,0,0,0,0,0,0,0,0,0,0,0,0,0,0,0,0,0,0,0,0,0,0,0,0,0,0,0,0,0,0,0,0,0,0,0,0,0,0,0,0,0,0,0,0,0,0,0,0,0,0]
[25,"Sinaloa",null,20805,112,5.3833213169911078E-3,123,5.9120403749098778E-3,5,2.4032684450853159E-4,5,2.4032684450853159E-4,4,1.9226147560682529E-4,0,0,0,0,0,0,0,0,0,0,0,0,0,0,0,0,1,4.8065368901706323E-5,0,0,0,0,0,0,0,0,0,0,0,0,0,0,0,0,0,0,0,0,0,0,0,0,0,0,0,0,0,0,0,0,0,0,0,0,0,0,0,0,0,0,0,0,0,0,0,0,0,0,0,0,0,0,0,0,0,0,0,0,0,0,0,0,0,0,0,0]
[26,"Sonora",null,20415,600,2.9390154298310066E-2,6,2.9390154298310065E-4,25,1.2245897624295861E-3,12,5.878030859662013E-4,20,9.7967180994366888E-4,0,0,0,0,0,0,0,0,0,0,0,0,0,0,0,0,0,0,0,0,0,0,0,0,0,0,0,0,0,0,0,0,0,0,0,0,0,0,0,0,0,0,0,0,0,0,0,0,0,0,0,0,0,0,0,0,0,0,0,0,0,0,0,0,0,0,0,0,0,0,0,0,0,0,0,0,0,0,0,0,0,0,0,0,0,0]
[27,"Tabasco",null,16580,61,3.6791314837153195E-3,5,3.0156815440289503E-4,228,1.3751507840772014E-2,530,3.1966224366706875E-2,5,3.0156815440289503E-4,0,0,0,0,0,0,0,0,0,0,0,0,0,0,0,0,0,0,0,0,0,0,0,0,0,0,0,0,0,0,0,0,0,0,0,0,0,0,0,0,0,0,0,0,0,0,0,0,0,0,0,0,0,0,0,0,0,0,0,0,0,0,0,0,0,0,0,0,0,0,0,0,0,0,0,0,0,0,0,0,0,0,0,0,0,0]
[28,"Tamaulipas",null,25589,395,1.5436320293876276E-2,6,2.3447575129938647E-4,2,7.8158583766462151E-5,19,7.4250654578139044E-4,13,5.0803079448200397E-4,0,0,1,3.9079291883231076E-5,0,0,0,0,0,0,0,0,0,0,0,0,2,7.8158583766462151E-5,0,0,0,0,0,0,0,0,1,3.9079291883231076E-5,6,2.3447575129938647E-4,0,0,0,0,0,0,0,0,0,0,0,0,4,1.563171675329243E-4,1,3.9079291883231076E-5,0,0,0,0,0,0,0,0,0,0,0,0,0,0,0,0,0,0,0,0,0,0,0,0,0,0,0,0,0,0,0,0,0,0,0,0,0,0,0,0]
[29,"Tlaxcala",null,8939,73,8.1664615728828729E-3,0,0,0,0,1,1.1186933661483388E-4,16,1.789909385837342E-3,0,0,0,0,1,1.1186933661483388E-4,0,0,1,1.1186933661483388E-4,0,0,0,0,0,0,0,0,0,0,0,0,2,2.2373867322966775E-4,0,0,0,0,0,0,0,0,0,0,0,0,0,0,0,0,0,0,0,0,0,0,0,0,0,0,0,0,0,0,0,0,0,0,0,0,0,0,0,0,0,0,0,0,0,0,0,0,0,0,0,0,0,0,0,0,0,0,0,0,0,0]
[30,"Veracruz",null,56407,349,6.1871753505770557E-3,165,2.9251688620206711E-3,34,6.0276206853759288E-4,22,3.900225149360895E-4,57,1.0105128796071409E-3,1,1.7728296133458613E-5,0,0,1,1.7728296133458613E-5,0,0,3,5.3184888400375839E-5,0,0,0,0,1,1.7728296133458613E-5,0,0,0,0,0,0,0,0,0,0,0,0,0,0,0,0,0,0,0,0,0,0,0,0,0,0,0,0,0,0,0,0,0,0,0,0,0,0,0,0,0,0,0,0,0,0,0,0,0,0,0,0,0,0,0,0,0,0,0,0,0,0,0,0,0,0,0,0,0,0]
[31,"Yucatán",null,14965,131,8.7537587704644166E-3,40,2.6729034413631807E-3,87,5.813564984964918E-3,1,6.6822586034079518E-5,21,1.4032743067156699E-3,0,0,0,0,1,6.6822586034079518E-5,1,6.6822586034079518E-5,0,0,2,1.3364517206815904E-4,0,0,0,0,0,0,0,0,0,0,0,0,0,0,0,0,0,0,0,0,0,0,0,0,0,0,2,1.3364517206815904E-4,0,0,0,0,0,0,0,0,0,0,0,0,0,0,0,0,0,0,0,0,0,0,0,0,0,0,0,0,0,0,0,0,0,0,0,0,0,0,0,0,0,0,0,0,0,0]
[32,"Zacatecas",null,11347,32,2.8201286683704942E-3,538,4.7413413236978938E-2,0,0,0,0,13,1.1456772715255133E-3,0,0,0,0,0,0,0,0,0,0,0,0,0,0,0,0,0,0,0,0,0,0,0,0,0,0,0,0,0,0,0,0,0,0,0,0,0,0,0,0,0,0,0,0,0,0,0,0,0,0,0,0,0,0,0,0,0,0,0,0,0,0,0,0,0,0,0,0,0,0,0,0,0,0,0,0,0,0,0,0,0,0,0,0,0,0]
[null,"En validación",null,null,96,null,67,null,112,null,67,null,20,null,0,null,12,null,3,null,9,null,1,null,0,null,0,null,1,null,1,null,0,null,9,null,0,null,0,null,2,null,4,null,0,null,0,null,0,null,0,null,0,null,0,null,0,null,0,null,0,null,0,null,0,null,0,null,0,null,0,null,0,null,0,null,0,null,0,null,0,null,0,null,0,null,0,null,0,null,0,null,0,null,0,null,0,null,0]
["TOTAL",null,null,null,13140,null,4795,null,2919,null,2709,null,2225,null,242,null,238,null,196,null,161,null,130,null,96,null,87,null,81,null,71,null,70,null,54,null,53,null,46,null,39,null,27,null,16,null,12,null,12,null,10,null,8,null,6,null,4,null,4,null,3,null,2,null,1,null,0,null,0,null,0,null,0,null,0,null,0,null,0,null,0,null,0,null,0,null,0,null,0,null,0,null,0,null,0,null,0,null,0]

{"sheet":"Suficientes","index":3,"n_rows":34,"n_cols":49,"rows_kept":34,"cut":false,"hidden":true,"merged":[]}
["Orden TOP",1,2,3,4,5,6,7,8,9,10,11,12,13,14,15,16,17,18,19,20,21,22,23,24,25,26,27,28,29,30,31,32,33,34,35,36,37,38,39,40,41,42,43,44,45,46,47,48]
["Total",{"$f":"SUM(B3:B34)","v":0},{"$f":"SUM(C3:C34)","v":0},0,0,0,0,0,0,0,0,0,0,0,0,0,0,0,0,0,0,0,0,0,0,0,0,0,0,0,0,0,0,0,0,0,0,0,0,0,0,0,0,0,0,0,0,0,0]
["Aguascalientes",{"$f":"IF(Presidencia!E5>=Presidencia!$D5,1,0)","v":0},{"$f":"IF(Presidencia!G5>=Presidencia!$D5,1,0)","v":0},{"$f":"IF(Presidencia!I5>=Presidencia!$D5,1,0)","v":0},{"$f":"IF(Presidencia!K5>=Presidencia!$D5,1,0)","v":0},{"$f":"IF(Presidencia!M5>=Presidencia!$D5,1,0)","v":0}]
["Baja California",{"$f":"IF(Presidencia!E6>=Presidencia!$D6,1,0)","v":0},{"$f":"IF(Presidencia!G6>=Presidencia!$D6,1,0)","v":0},{"$f":"IF(Presidencia!I6>=Presidencia!$D6,1,0)","v":0},{"$f":"IF(Presidencia!K6>=Presidencia!$D6,1,0)","v":0},{"$f":"IF(Presidencia!M6>=Presidencia!$D6,1,0)","v":0}]
["Baja California Sur",{"$f":"IF(Presidencia!E7>=Presidencia!$D7,1,0)","v":0},{"$f":"IF(Presidencia!G7>=Presidencia!$D7,1,0)","v":0},{"$f":"IF(Presidencia!I7>=Presidencia!$D7,1,0)","v":0},{"$f":"IF(Presidencia!K7>=Presidencia!$D7,1,0)","v":0},{"$f":"IF(Presidencia!M7>=Presidencia!$D7,1,0)","v":0}]
["Campeche",{"$f":"IF(Presidencia!E8>=Presidencia!$D8,1,0)","v":0},{"$f":"IF(Presidencia!G8>=Presidencia!$D8,1,0)","v":0},{"$f":"IF(Presidencia!I8>=Presidencia!$D8,1,0)","v":0},{"$f":"IF(Presidencia!K8>=Presidencia!$D8,1,0)","v":0},{"$f":"IF(Presidencia!M8>=Presidencia!$D8,1,0)","v":0}]
["Coahuila",{"$f":"IF(Presidencia!E9>=Presidencia!$D9,1,0)","v":0},{"$f":"IF(Presidencia!G9>=Presidencia!$D9,1,0)","v":0},{"$f":"IF(Presidencia!I9>=Presidencia!$D9,1,0)","v":0},{"$f":"IF(Presidencia!K9>=Presidencia!$D9,1,0)","v":0},{"$f":"IF(Presidencia!M9>=Presidencia!$D9,1,0)","v":0}]
["Colima",{"$f":"IF(Presidencia!E10>=Presidencia!$D10,1,0)","v":0},{"$f":"IF(Presidencia!G10>=Presidencia!$D10,1,0)","v":0},{"$f":"IF(Presidencia!I10>=Presidencia!$D10,1,0)","v":0},{"$f":"IF(Presidencia!K10>=Presidencia!$D10,1,0)","v":0},{"$f":"IF(Presidencia!M10>=Presidencia!$D10,1,0)","v":0}]
["Chiapas",{"$f":"IF(Presidencia!E11>=Presidencia!$D11,1,0)","v":0},{"$f":"IF(Presidencia!G11>=Presidencia!$D11,1,0)","v":0},{"$f":"IF(Presidencia!I11>=Presidencia!$D11,1,0)","v":0},{"$f":"IF(Presidencia!K11>=Presidencia!$D11,1,0)","v":0},{"$f":"IF(Presidencia!M11>=Presidencia!$D11,1,0)","v":0}]
["Chihuahua",{"$f":"IF(Presidencia!E12>=Presidencia!$D12,1,0)","v":0},{"$f":"IF(Presidencia!G12>=Presidencia!$D12,1,0)","v":0},{"$f":"IF(Presidencia!I12>=Presidencia!$D12,1,0)","v":0},{"$f":"IF(Presidencia!K12>=Presidencia!$D12,1,0)","v":0},{"$f":"IF(Presidencia!M12>=Presidencia!$D12,1,0)","v":0}]
["Ciudad de México",{"$f":"IF(Presidencia!E13>=Presidencia!$D13,1,0)","v":0},{"$f":"IF(Presidencia!G13>=Presidencia!$D13,1,0)","v":0},{"$f":"IF(Presidencia!I13>=Presidencia!$D13,1,0)","v":0},{"$f":"IF(Presidencia!K13>=Presidencia!$D13,1,0)","v":0},{"$f":"IF(Presidencia!M13>=Presidencia!$D13,1,0)","v":0}]
["Durango",{"$f":"IF(Presidencia!E14>=Presidencia!$D14,1,0)","v":0},{"$f":"IF(Presidencia!G14>=Presidencia!$D14,1,0)","v":0},{"$f":"IF(Presidencia!I14>=Presidencia!$D14,1,0)","v":0},{"$f":"IF(Presidencia!K14>=Presidencia!$D14,1,0)","v":0},{"$f":"IF(Presidencia!M14>=Presidencia!$D14,1,0)","v":0}]
["Guanajuato",{"$f":"IF(Presidencia!E15>=Presidencia!$D15,1,0)","v":0},{"$f":"IF(Presidencia!G15>=Presidencia!$D15,1,0)","v":0},{"$f":"IF(Presidencia!I15>=Presidencia!$D15,1,0)","v":0},{"$f":"IF(Presidencia!K15>=Presidencia!$D15,1,0)","v":0},{"$f":"IF(Presidencia!M15>=Presidencia!$D15,1,0)","v":0}]
["Guerrero",{"$f":"IF(Presidencia!E16>=Presidencia!$D16,1,0)","v":0},{"$f":"IF(Presidencia!G16>=Presidencia!$D16,1,0)","v":0},{"$f":"IF(Presidencia!I16>=Presidencia!$D16,1,0)","v":0},{"$f":"IF(Presidencia!K16>=Presidencia!$D16,1,0)","v":0},{"$f":"IF(Presidencia!M16>=Presidencia!$D16,1,0)","v":0}]
["Hidalgo",{"$f":"IF(Presidencia!E17>=Presidencia!$D17,1,0)","v":0},{"$f":"IF(Presidencia!G17>=Presidencia!$D17,1,0)","v":0},{"$f":"IF(Presidencia!I17>=Presidencia!$D17,1,0)","v":0},{"$f":"IF(Presidencia!K17>=Presidencia!$D17,1,0)","v":0},{"$f":"IF(Presidencia!M17>=Presidencia!$D17,1,0)","v":0}]
["Jalisco",{"$f":"IF(Presidencia!E18>=Presidencia!$D18,1,0)","v":0},{"$f":"IF(Presidencia!G18>=Presidencia!$D18,1,0)","v":0},{"$f":"IF(Presidencia!I18>=Presidencia!$D18,1,0)","v":0},{"$f":"IF(Presidencia!K18>=Presidencia!$D18,1,0)","v":0},{"$f":"IF(Presidencia!M18>=Presidencia!$D18,1,0)","v":0}]
["México",{"$f":"IF(Presidencia!E19>=Presidencia!$D19,1,0)","v":0},{"$f":"IF(Presidencia!G19>=Presidencia!$D19,1,0)","v":0},{"$f":"IF(Presidencia!I19>=Presidencia!$D19,1,0)","v":0},{"$f":"IF(Presidencia!K19>=Presidencia!$D19,1,0)","v":0},{"$f":"IF(Presidencia!M19>=Presidencia!$D19,1,0)","v":0}]
["Michoacán",{"$f":"IF(Presidencia!E20>=Presidencia!$D20,1,0)","v":0},{"$f":"IF(Presidencia!G20>=Presidencia!$D20,1,0)","v":0},{"$f":"IF(Presidencia!I20>=Presidencia!$D20,1,0)","v":0},{"$f":"IF(Presidencia!K20>=Presidencia!$D20,1,0)","v":0},{"$f":"IF(Presidencia!M20>=Presidencia!$D20,1,0)","v":0}]
["Morelos",{"$f":"IF(Presidencia!E21>=Presidencia!$D21,1,0)","v":0},{"$f":"IF(Presidencia!G21>=Presidencia!$D21,1,0)","v":0},{"$f":"IF(Presidencia!I21>=Presidencia!$D21,1,0)","v":0},{"$f":"IF(Presidencia!K21>=Presidencia!$D21,1,0)","v":0},{"$f":"IF(Presidencia!M21>=Presidencia!$D21,1,0)","v":0}]
["Nayarit",{"$f":"IF(Presidencia!E22>=Presidencia!$D22,1,0)","v":0},{"$f":"IF(Presidencia!G22>=Presidencia!$D22,1,0)","v":0},{"$f":"IF(Presidencia!I22>=Presidencia!$D22,1,0)","v":0},{"$f":"IF(Presidencia!K22>=Presidencia!$D22,1,0)","v":0},{"$f":"IF(Presidencia!M22>=Presidencia!$D22,1,0)","v":0}]
["Nuevo León",{"$f":"IF(Presidencia!E23>=Presidencia!$D23,1,0)","v":0},{"$f":"IF(Presidencia!G23>=Presidencia!$D23,1,0)","v":0},{"$f":"IF(Presidencia!I23>=Presidencia!$D23,1,0)","v":0},{"$f":"IF(Presidencia!K23>=Presidencia!$D23,1,0)","v":0},{"$f":"IF(Presidencia!M23>=Presidencia!$D23,1,0)","v":0}]
["Oaxaca",{"$f":"IF(Presidencia!E24>=Presidencia!$D24,1,0)","v":0},{"$f":"IF(Presidencia!G24>=Presidencia!$D24,1,0)","v":0},{"$f":"IF(Presidencia!I24>=Presidencia!$D24,1,0)","v":0},{"$f":"IF(Presidencia!K24>=Presidencia!$D24,1,0)","v":0},{"$f":"IF(Presidencia!M24>=Presidencia!$D24,1,0)","v":0}]
["Puebla",{"$f":"IF(Presidencia!E25>=Presidencia!$D25,1,0)","v":0},{"$f":"IF(Presidencia!G25>=Presidencia!$D25,1,0)","v":0},{"$f":"IF(Presidencia!I25>=Presidencia!$D25,1,0)","v":0},{"$f":"IF(Presidencia!K25>=Presidencia!$D25,1,0)","v":0},{"$f":"IF(Presidencia!M25>=Presidencia!$D25,1,0)","v":0}]
["Querétaro",{"$f":"IF(Presidencia!E26>=Presidencia!$D26,1,0)","v":0},{"$f":"IF(Presidencia!G26>=Presidencia!$D26,1,0)","v":0},{"$f":"IF(Presidencia!I26>=Presidencia!$D26,1,0)","v":0},{"$f":"IF(Presidencia!K26>=Presidencia!$D26,1,0)","v":0},{"$f":"IF(Presidencia!M26>=Presidencia!$D26,1,0)","v":0}]
["Quintana Roo",{"$f":"IF(Presidencia!E27>=Presidencia!$D27,1,0)","v":0},{"$f":"IF(Presidencia!G27>=Presidencia!$D27,1,0)","v":0},{"$f":"IF(Presidencia!I27>=Presidencia!$D27,1,0)","v":0},{"$f":"IF(Presidencia!K27>=Presidencia!$D27,1,0)","v":0},{"$f":"IF(Presidencia!M27>=Presidencia!$D27,1,0)","v":0}]
["San Luis Potosí",{"$f":"IF(Presidencia!E28>=Presidencia!$D28,1,0)","v":0},{"$f":"IF(Presidencia!G28>=Presidencia!$D28,1,0)","v":0},{"$f":"IF(Presidencia!I28>=Presidencia!$D28,1,0)","v":0},{"$f":"IF(Presidencia!K28>=Presidencia!$D28,1,0)","v":0},{"$f":"IF(Presidencia!M28>=Presidencia!$D28,1,0)","v":0}]
["Sinaloa",{"$f":"IF(Presidencia!E29>=Presidencia!$D29,1,0)","v":0},{"$f":"IF(Presidencia!G29>=Presidencia!$D29,1,0)","v":0},{"$f":"IF(Presidencia!I29>=Presidencia!$D29,1,0)","v":0},{"$f":"IF(Presidencia!K29>=Presidencia!$D29,1,0)","v":0},{"$f":"IF(Presidencia!M29>=Presidencia!$D29,1,0)","v":0}]
["Sonora",{"$f":"IF(Presidencia!E30>=Presidencia!$D30,1,0)","v":0},{"$f":"IF(Presidencia!G30>=Presidencia!$D30,1,0)","v":0},{"$f":"IF(Presidencia!I30>=Presidencia!$D30,1,0)","v":0},{"$f":"IF(Presidencia!K30>=Presidencia!$D30,1,0)","v":0},{"$f":"IF(Presidencia!M30>=Presidencia!$D30,1,0)","v":0}]
["Tabasco",{"$f":"IF(Presidencia!E31>=Presidencia!$D31,1,0)","v":0},{"$f":"IF(Presidencia!G31>=Presidencia!$D31,1,0)","v":0},{"$f":"IF(Presidencia!I31>=Presidencia!$D31,1,0)","v":0},{"$f":"IF(Presidencia!K31>=Presidencia!$D31,1,0)","v":0},{"$f":"IF(Presidencia!M31>=Presidencia!$D31,1,0)","v":0}]
["Tamaulipas",{"$f":"IF(Presidencia!E32>=Presidencia!$D32,1,0)","v":0},{"$f":"IF(Presidencia!G32>=Presidencia!$D32,1,0)","v":0},{"$f":"IF(Presidencia!I32>=Presidencia!$D32,1,0)","v":0},{"$f":"IF(Presidencia!K32>=Presidencia!$D32,1,0)","v":0},{"$f":"IF(Presidencia!M32>=Presidencia!$D32,1,0)","v":0}]
["Tlaxcala",{"$f":"IF(Presidencia!E33>=Presidencia!$D33,1,0)","v":0},{"$f":"IF(Presidencia!G33>=Presidencia!$D33,1,0)","v":0},{"$f":"IF(Presidencia!I33>=Presidencia!$D33,1,0)","v":0},{"$f":"IF(Presidencia!K33>=Presidencia!$D33,1,0)","v":0},{"$f":"IF(Presidencia!M33>=Presidencia!$D33,1,0)","v":0}]
["Veracruz",{"$f":"IF(Presidencia!E34>=Presidencia!$D34,1,0)","v":0},{"$f":"IF(Presidencia!G34>=Presidencia!$D34,1,0)","v":0},{"$f":"IF(Presidencia!I34>=Presidencia!$D34,1,0)","v":0},{"$f":"IF(Presidencia!K34>=Presidencia!$D34,1,0)","v":0},{"$f":"IF(Presidencia!M34>=Presidencia!$D34,1,0)","v":0}]
["Yucatán",{"$f":"IF(Presidencia!E35>=Presidencia!$D35,1,0)","v":0},{"$f":"IF(Presidencia!G35>=Presidencia!$D35,1,0)","v":0},{"$f":"IF(Presidencia!I35>=Presidencia!$D35,1,0)","v":0},{"$f":"IF(Presidencia!K35>=Presidencia!$D35,1,0)","v":0},{"$f":"IF(Presidencia!M35>=Presidencia!$D35,1,0)","v":0}]
["Zacatecas",{"$f":"IF(Presidencia!E36>=Presidencia!$D36,1,0)","v":0},{"$f":"IF(Presidencia!G36>=Presidencia!$D36,1,0)","v":0},{"$f":"IF(Presidencia!I36>=Presidencia!$D36,1,0)","v":0},{"$f":"IF(Presidencia!K36>=Presidencia!$D36,1,0)","v":0},{"$f":"IF(Presidencia!M36>=Presidencia!$D36,1,0)","v":0}]